BEGIN:VCALENDAR
PRODID:-//Microsoft Corporation//Outlook 14.0 MIMEDIR//EN
VERSION:2.0
METHOD:PUBLISH
X-MS-OLK-FORCEINSPECTOROPEN:TRUE
X-WR-CALNAME:Madklub i Aarhus
BEGIN:VTIMEZONE
TZID:Romance Standard Time
BEGIN:STANDARD
DTSTART:20260115T160000Z
RRULE:FREQ=YEARLY;BYDAY=-1SU;BYMONTH=10
TZOFFSETFROM:+0200
TZOFFSETTO:+0100
END:STANDARD
BEGIN:DAYLIGHT
DTSTART:20260115T160000Z
RRULE:FREQ=YEARLY;BYDAY=-1SU;BYMONTH=3
DTSTART:20260115T160000Z
TZOFFSETFROM:+0100
TZOFFSETTO:+0200
END:DAYLIGHT
END:VTIMEZONE
BEGIN:VEVENT
CLASS:PUBLIC
UID:7484
DTSTAMP:20260420T180108Z
SEQUENCE:0
DTEND;TZID="Romance Standard Time":20260115T190000Z
DTSTART;TZID="Romance Standard Time":20260115T160000Z
LOCATION:Vestergade 43, 8000 Aarhus C
SUMMARY;LANGUAGE=da:Madklub i Aarhus
X-ALT-DESC;FMTTYPE=text/html:<!DOCTYPE HTML PUBLIC "-//W3C//DTD HTML 3.2//EN"><HTML><BODY><p>Madklubben mødes hver anden torsdag (ulige uger) kl. 16-19 til hygge, gode samtaler og selvfølgelig et velsmagende måltid. Madklubben er en af Café Exits sociale aktiviteter, der har til formål at skabe et positivt og kriminalitetsfrit miljø, hvor brugere kan blive en del af et meningsfuldt fællesskab, få styrket deres relationer og danne bro til ansatte, frivillige og andre brugere, der&hellip; Læs mere<br/><a href="https://cafeexit.dk/?p=7484">Læs mere</a><br/></p></BODY></HTML>

URL;VALUE=URI:https://cafeexit.dk/?p=7484
BEGIN:VALARM
TRIGGER:-PT720M
ACTION:DISPLAY
DESCRIPTION:Madklubben mødes hver anden torsdag (ulige uger) kl. 16-19 til hygge, gode samtaler og selvfølgelig et velsmagende måltid. Madklubben er en af Café Exits sociale aktiviteter, der har til formål at skabe et positivt og kriminalitetsfrit miljø, hvor brugere kan blive en del af et meningsfuldt fællesskab, få styrket deres relationer og danne bro til ansatte, frivillige og andre brugere, der&hellip; Læs mere
END:VALARM
END:VEVENT
END:VCALENDAR
