BEGIN:VCALENDAR
PRODID:-//Microsoft Corporation//Outlook 14.0 MIMEDIR//EN
VERSION:2.0
METHOD:PUBLISH
X-MS-OLK-FORCEINSPECTOROPEN:TRUE
X-WR-CALNAME:Madklub i København
BEGIN:VTIMEZONE
TZID:Romance Standard Time
BEGIN:STANDARD
DTSTART:20260507T160000Z
RRULE:FREQ=YEARLY;BYDAY=-1SU;BYMONTH=10
TZOFFSETFROM:+0200
TZOFFSETTO:+0100
END:STANDARD
BEGIN:DAYLIGHT
DTSTART:20260507T160000Z
RRULE:FREQ=YEARLY;BYDAY=-1SU;BYMONTH=3
DTSTART:20260507T160000Z
TZOFFSETFROM:+0100
TZOFFSETTO:+0200
END:DAYLIGHT
END:VTIMEZONE
BEGIN:VEVENT
CLASS:PUBLIC
UID:2110
DTSTAMP:20260420T180755Z
SEQUENCE:0
DTEND;TZID="Romance Standard Time":20260507T190000Z
DTSTART;TZID="Romance Standard Time":20260507T160000Z
LOCATION:Saxogade 5, 1662 København V
SUMMARY;LANGUAGE=da:Madklub i København
DESCRIPTION:Samvær og spisning sammen med indsatte, tidligere indsatte og frivillige. 
URL;VALUE=URI:https://cafeexit.dk/?p=2110
BEGIN:VALARM
TRIGGER:-PT720M
ACTION:DISPLAY
DESCRIPTION:Samvær og spisning sammen med indsatte, tidligere indsatte og frivillige. 
END:VALARM
END:VEVENT
END:VCALENDAR
